BEGIN:VCALENDAR
VERSION:2.0
PRODID:-//Tukios.com/
BEGIN:VEVENT
UID:cd7e3e31-1117-4975-998e-4fb578f1a088@www.goldengatefuneralhome.com
DTSTAMP:20260422T183532Z
DTSTART:20260425T160000Z
DTEND:20260425T170000Z
SUMMARY:Funeral for ALBERT ANDREW JAMES Sr.
DESCRIPTION:
URL:https://www.goldengatefuneralhome.com/obituaries/albert-james
LOCATION:GREATER NEW ANTIOCH BC 301 Sherrouse Avenue  Monroe LA 71203
GEO:32.5243405;-92.0701342
END:VEVENT
END:VCALENDAR