BEGIN:VCALENDAR
VERSION:2.0
PRODID:-//Tukios.com/
BEGIN:VEVENT
UID:89861a84-aeab-4032-9eea-88876971f374@www.goldengatefuneralhome.com
DTSTAMP:20260422T183842Z
DTSTART:20260425
SUMMARY:Burial for ALBERT ANDREW JAMES Sr.
DESCRIPTION:
URL:https://www.goldengatefuneralhome.com/obituaries/albert-james
LOCATION:RICHWOOD MEMORIAL GARDENS 2705 Richwood Road 2  Monroe LA 71202
GEO:32.4376291;-92.0847876
END:VEVENT
END:VCALENDAR