BEGIN:VCALENDAR
VERSION:2.0
PRODID:-//Tukios.com/
BEGIN:VEVENT
UID:1fe00d47-b99d-4572-8afb-6472329d2c98@www.goldengatefuneralhome.com
DTSTAMP:20260420T200559Z
DTSTART:20260428T141500Z
DTEND:20260428T151500Z
SUMMARY:Burial for ALFONSO WILBURN JR
DESCRIPTION:
URL:https://www.goldengatefuneralhome.com/obituaries/alfonso-wilburn
LOCATION:Dallas-Fort Worth National Cemetery 2000 Mountain Creek Parkway  
	Dallas TX 75211
GEO:32.7156123;-96.9421747
END:VEVENT
END:VCALENDAR