BEGIN:VCALENDAR
VERSION:2.0
PRODID:-//Tukios.com/
BEGIN:VEVENT
UID:f6b1cfb2-b47c-42ba-ab7f-8303ae85ffda@www.goldengatefuneralhome.com
DTSTAMP:20260420T200851Z
DTSTART:20260424T160000Z
DTEND:20260424T170000Z
SUMMARY:Funeral for ALFONSO WILBURN JR
DESCRIPTION:
URL:https://www.goldengatefuneralhome.com/obituaries/alfonso-wilburn
LOCATION:Community Missionary Baptist Church 115 W Belt Line Rd  DeSoto 
	TX 75115
GEO:32.5903388;-96.8579669
END:VEVENT
END:VCALENDAR