BEGIN:VCALENDAR
VERSION:2.0
PRODID:-//Tukios.com/
BEGIN:VEVENT
UID:4021445e-89cd-475c-bc55-849e0bb6f806@www.goldengatefuneralhome.com
DTSTAMP:20260420T200319Z
DTSTART:20260422T170000Z
DTEND:20260423T000000Z
SUMMARY:Visitation for ALFONSO WILBURN JR
DESCRIPTION:
URL:https://www.goldengatefuneralhome.com/obituaries/alfonso-wilburn
LOCATION:Golden Gate Funeral Home-Dallas 4155 S R. L. Thornton Fwy  
	Dallas TX 75224
GEO:32.6945504;-96.8242937
END:VEVENT
END:VCALENDAR