BEGIN:VCALENDAR
VERSION:2.0
PRODID:-//Tukios.com/
BEGIN:VEVENT
UID:b601a19b-1069-43bb-b381-417ea52d0e7f@www.goldengatefuneralhome.com
DTSTAMP:20260422T195330Z
DTSTART:20260424T200000Z
DTEND:20260425T000000Z
SUMMARY:Viewing for ANGELA STINNETT
DESCRIPTION:
URL:https://www.goldengatefuneralhome.com/obituaries/angela-stinnett
LOCATION:Golden Gate Funeral Home-Dallas 4155 S R. L. Thornton Fwy  
	Dallas TX 75224
GEO:32.6945504;-96.8242937
END:VEVENT
END:VCALENDAR