BEGIN:VCALENDAR
VERSION:2.0
PRODID:-//Tukios.com/
BEGIN:VEVENT
UID:d4a01fbf-560b-4d74-9a20-1098eccc1aa5@www.goldengatefuneralhome.com
DTSTAMP:20260423T024610Z
DTSTART:20260501T180000Z
DTEND:20260502T000000Z
SUMMARY:Viewing for ANNETTE MARIE FISHER
DESCRIPTION:
URL:https://www.goldengatefuneralhome.com/obituaries/annette-fisher
LOCATION:Golden Gate Funeral Home-Dallas 4155 S R. L. Thornton Fwy  
	Dallas TX 75224
GEO:32.6945504;-96.8242937
END:VEVENT
END:VCALENDAR