BEGIN:VCALENDAR
VERSION:2.0
PRODID:-//Tukios.com/
BEGIN:VEVENT
UID:036d82c5-93a6-4fdd-b280-8fb428671c89@www.goldengatefuneralhome.com
DTSTAMP:20260423T023915Z
DTSTART:20260502T200000Z
DTEND:20260502T210000Z
SUMMARY:Funeral for ANNETTE MARIE FISHER
DESCRIPTION:
URL:https://www.goldengatefuneralhome.com/obituaries/annette-fisher
LOCATION:Golden Gate Funeral Home-Dallas(Allene) 4155 S R. L. Thornton 
	Fwy  Dallas TX 75224
GEO:32.6945504;-96.8242937
END:VEVENT
END:VCALENDAR