BEGIN:VCALENDAR
VERSION:2.0
PRODID:-//Tukios.com/
BEGIN:VEVENT
UID:3bbecc1d-986d-4a02-ac5d-198b5bb09b46@www.goldengatefuneralhome.com
DTSTAMP:20260424T015049Z
DTSTART:20260516T160000Z
DTEND:20260516T170000Z
SUMMARY:Funeral for ARTHUR PENNIE
DESCRIPTION:
URL:https://www.goldengatefuneralhome.com/obituaries/arthur-pennie
LOCATION:SEVEN STAR MISSIONARY BAPTIST CHURCH 2736 County Road 377  
	Caldwell TX 77836
GEO:30.5819274;-96.7306254
END:VEVENT
END:VCALENDAR