BEGIN:VCALENDAR
VERSION:2.0
PRODID:-//Tukios.com/
BEGIN:VEVENT
UID:ade130db-fdf5-4a2f-a67d-249ed82786e9@www.goldengatefuneralhome.com
DTSTAMP:20260424T015437Z
DTSTART:20260516T150000Z
DTEND:20260516T160000Z
SUMMARY:Viewing for ARTHUR PENNIE
DESCRIPTION:
URL:https://www.goldengatefuneralhome.com/obituaries/arthur-pennie
LOCATION:SEVEN STAR MISSIONARY BAPTIST CHURCH 2736 County Road 377  
	Caldwell TX 77836
GEO:30.5819274;-96.7306254
END:VEVENT
END:VCALENDAR