BEGIN:VCALENDAR
VERSION:2.0
PRODID:-//Tukios.com/
BEGIN:VEVENT
UID:15253878-0585-4d2c-9465-0cec6d883cfd@www.goldengatefuneralhome.com
DTSTAMP:20260421T191508Z
DTSTART:20260502T160000Z
DTEND:20260502T170000Z
SUMMARY:Funeral for Betty Mae Reeves
DESCRIPTION:
URL:https://www.goldengatefuneralhome.com/obituaries/betty-reeves
LOCATION:Pentecostal Church of God in Christ 2815 Chenault Street  Fort 
	Worth TX 76111
GEO:32.7645598;-97.3054789
END:VEVENT
END:VCALENDAR