BEGIN:VCALENDAR
VERSION:2.0
PRODID:-//Tukios.com/
BEGIN:VEVENT
UID:9ae520bb-8b47-4695-86c3-6fc6d18a52a1@www.goldengatefuneralhome.com
DTSTAMP:20260421T020852Z
DTSTART:20260425T180000Z
DTEND:20260425T190000Z
SUMMARY:Funeral for Charlie Albert Nixon Jr.
DESCRIPTION:
URL:https://www.goldengatefuneralhome.com/obituaries/charlie-nixon
LOCATION:Golden Gate Funeral Home - Ft. Worth 5701 East Loop 820 South  
	Fort Worth TX 76119
GEO:32.6736859;-97.2395395
END:VEVENT
END:VCALENDAR