BEGIN:VCALENDAR
VERSION:2.0
PRODID:-//Tukios.com/
BEGIN:VEVENT
UID:427f614d-98ac-4f41-93c3-c2740e3e34d5@www.goldengatefuneralhome.com
DTSTAMP:20260421T020604Z
DTSTART:20260424T230000Z
DTEND:20260425T000000Z
SUMMARY:Wake for Charlie Albert Nixon Jr.
DESCRIPTION:
URL:https://www.goldengatefuneralhome.com/obituaries/charlie-nixon
LOCATION:Golden Gate Funeral Home - Ft. Worth 5701 East Loop 820 South  
	Fort Worth TX 76119
GEO:32.6736859;-97.2395395
END:VEVENT
END:VCALENDAR