BEGIN:VCALENDAR
VERSION:2.0
PRODID:-//Tukios.com/
BEGIN:VEVENT
UID:7c2152e4-abce-4bcb-8fdb-982d8cce27e1@www.goldengatefuneralhome.com
DTSTAMP:20260420T180015Z
DTSTART:20260422T180000Z
DTEND:20260422T190000Z
SUMMARY:Funeral for CHRISTIAN DOIR BEAMON
DESCRIPTION:
URL:https://www.goldengatefuneralhome.com/obituaries/christian-beamon
LOCATION:Golden Gate Funeral Home - Ft. Worth 5701 East Loop 820 South  
	Fort Worth TX 76119
GEO:32.6736859;-97.2395395
END:VEVENT
END:VCALENDAR