BEGIN:VCALENDAR
VERSION:2.0
PRODID:-//Tukios.com/
BEGIN:VEVENT
UID:78982731-611e-4553-9b1a-0ce677e23fab@www.goldengatefuneralhome.com
DTSTAMP:20260420T175632Z
DTSTART:20260421T230000Z
DTEND:20260422T000000Z
SUMMARY:Wake for CHRISTIAN DOIR BEAMON
DESCRIPTION:
URL:https://www.goldengatefuneralhome.com/obituaries/christian-beamon
LOCATION:Golden Gate Funeral Home - Ft. Worth 5701 East Loop 820 South  
	Fort Worth TX 76119
GEO:32.6736859;-97.2395395
END:VEVENT
END:VCALENDAR