BEGIN:VCALENDAR
VERSION:2.0
PRODID:-//Tukios.com/
BEGIN:VEVENT
UID:d79d8881-6ff0-44d2-8ace-04bc9340cf3b@www.goldengatefuneralhome.com
DTSTAMP:20260423T024322Z
DTSTART:20260427T160000Z
DTEND:20260427T170000Z
SUMMARY:Memorial for DANIEL MICANIAH LENEARL ERVING
DESCRIPTION:
URL:https://www.goldengatefuneralhome.com/obituaries/daniel-erving
LOCATION:Golden Gate Funeral Home-Dallas 4155 S R. L. Thornton Fwy  
	Dallas TX 75224
GEO:32.6945504;-96.8242937
END:VEVENT
END:VCALENDAR