BEGIN:VCALENDAR
VERSION:2.0
PRODID:-//Tukios.com/
BEGIN:VEVENT
UID:4145376c-4224-41a4-8ef3-593d66f9e9a0@www.goldengatefuneralhome.com
DTSTAMP:20260423T052957Z
DTSTART:20260425T160000Z
DTEND:20260425T180000Z
SUMMARY:Memorial for DAVID LAVONE WASHINGTON
DESCRIPTION:
URL:https://www.goldengatefuneralhome.com/obituaries/david-lavone-washington
LOCATION:Cornerstone Baptist Church 1819 Martin Luther King Junior 
	Boulevard  Dallas TX 75215
GEO:32.7630541;-96.7763064
END:VEVENT
END:VCALENDAR