BEGIN:VCALENDAR
VERSION:2.0
PRODID:-//Tukios.com/
BEGIN:VEVENT
UID:5f85bc9b-7934-4527-88b0-43425715b4c0@www.goldengatefuneralhome.com
DTSTAMP:20260421T203004Z
DTSTART:20260501T180000Z
DTEND:20260502T000000Z
SUMMARY:Viewing for DOLLENA ENGLISH HUNNICUTT
DESCRIPTION:
URL:https://www.goldengatefuneralhome.com/obituaries/dollena-hunnicutt
LOCATION:Golden Gate Funeral Home-Dallas 4155 S R. L. Thornton Fwy  
	Dallas TX 75224
GEO:32.6945504;-96.8242937
END:VEVENT
END:VCALENDAR