BEGIN:VCALENDAR
VERSION:2.0
PRODID:-//Tukios.com/
BEGIN:VEVENT
UID:93ff0241-ba27-4561-aad3-1af9e6a1207c@www.goldengatefuneralhome.com
DTSTAMP:20260421T203911Z
DTSTART:20260502T160000Z
DTEND:20260502T170000Z
SUMMARY:Funeral for DOLLENA ENGLISH HUNNICUTT
DESCRIPTION:
URL:https://www.goldengatefuneralhome.com/obituaries/dollena-hunnicutt
LOCATION:CORNERSTONE BAPTIST CHURCH 1819 Martin Luther King Junior 
	Boulevard  Dallas TX 75215
GEO:32.7630541;-96.7763064
END:VEVENT
END:VCALENDAR