BEGIN:VCALENDAR
VERSION:2.0
PRODID:-//Tukios.com/
BEGIN:VEVENT
UID:82b035d5-9168-4e15-96db-a53c1eb26c87@www.goldengatefuneralhome.com
DTSTAMP:20260421T203842Z
DTSTART:20260502T190000Z
DTEND:20260502T200000Z
SUMMARY:Burial for DOLLENA ENGLISH HUNNICUTT
DESCRIPTION:
URL:https://www.goldengatefuneralhome.com/obituaries/dollena-hunnicutt
LOCATION:LINCOLN MEMORIAL CEMETERY 1311 Murdock Road  Dallas TX 75217
GEO:32.694306;-96.686402
END:VEVENT
END:VCALENDAR