BEGIN:VCALENDAR
VERSION:2.0
PRODID:-//Tukios.com/
BEGIN:VEVENT
UID:f1b3395b-5451-4dab-996b-f90ef5b8b99b@www.goldengatefuneralhome.com
DTSTAMP:20260424T235027Z
DTSTART:20260501T160000Z
DTEND:20260501T170000Z
SUMMARY:Funeral for FRANCES BOYD
DESCRIPTION:
URL:https://www.goldengatefuneralhome.com/obituaries/frances-boyd
LOCATION:ST PAUL BAPTIST CHURCH 1600 Pear Street  Dallas TX 75215
GEO:32.7501339;-96.7668399
END:VEVENT
END:VCALENDAR