BEGIN:VCALENDAR
VERSION:2.0
PRODID:-//Tukios.com/
BEGIN:VEVENT
UID:97d44cee-37c0-46a9-9dfb-3e8fc4ddfd73@www.goldengatefuneralhome.com
DTSTAMP:20260424T234628Z
DTSTART:20260504T160000Z
DTEND:20260504T170000Z
SUMMARY:Burial for FRANCES BOYD
DESCRIPTION:
URL:https://www.goldengatefuneralhome.com/obituaries/frances-boyd
LOCATION:Dallas-Fort Worth National Cemetery 2000 Mountain Creek Parkway  
	Dallas TX 75211
GEO:32.7156123;-96.9421747
END:VEVENT
END:VCALENDAR