BEGIN:VCALENDAR
VERSION:2.0
PRODID:-//Tukios.com/
BEGIN:VEVENT
UID:f3203098-a562-41ec-8596-c53c9eb5e5a0@www.goldengatefuneralhome.com
DTSTAMP:20260424T234700Z
DTSTART:20260430T170000Z
DTEND:20260501T000000Z
SUMMARY:Viewing for FRANCES BOYD
DESCRIPTION:
URL:https://www.goldengatefuneralhome.com/obituaries/frances-boyd
LOCATION:Golden Gate Funeral Home-Dallas 4155 S R. L. Thornton Fwy  
	Dallas TX 75224
GEO:32.6945504;-96.8242937
END:VEVENT
END:VCALENDAR