BEGIN:VCALENDAR
VERSION:2.0
PRODID:-//Tukios.com/
BEGIN:VEVENT
UID:493fe618-b184-4caa-b925-88d04770d79e@www.goldengatefuneralhome.com
DTSTAMP:20260423T182237Z
DTSTART:20260425T140000Z
DTEND:20260425T153000Z
SUMMARY:Celebration Of Life for FREDRICK HUNTER SR
DESCRIPTION:
URL:https://www.goldengatefuneralhome.com/obituaries/fredrick-hunter
LOCATION:Golden Gate Funeral Home-Dallas 4155 S R. L. Thornton Fwy  
	Dallas TX 75224
GEO:32.6945504;-96.8242937
END:VEVENT
END:VCALENDAR