BEGIN:VCALENDAR
VERSION:2.0
PRODID:-//Tukios.com/
BEGIN:VEVENT
UID:89d892db-504d-46d9-ba6f-d4ef533ff8fd@www.goldengatefuneralhome.com
DTSTAMP:20260423T182426Z
DTSTART:20260425
SUMMARY:Burial for FREDRICK HUNTER SR
DESCRIPTION:
URL:https://www.goldengatefuneralhome.com/obituaries/fredrick-hunter
LOCATION:Laurel Land Memorial Park 6000 South R L Thornton Freeway  
	Dallas TX 75241
GEO:32.6746625;-96.8205965
END:VEVENT
END:VCALENDAR