BEGIN:VCALENDAR
VERSION:2.0
PRODID:-//Tukios.com/
BEGIN:VEVENT
UID:b7b6982f-f67f-475b-84a2-93b2e2f90342@www.goldengatefuneralhome.com
DTSTAMP:20260424T005700Z
DTSTART:20260502T160000Z
DTEND:20260502T170000Z
SUMMARY:Funeral for HELEN FAYE WHITMIRE
DESCRIPTION:
URL:https://www.goldengatefuneralhome.com/obituaries/helen-whitmire
LOCATION:Golden Gate Funeral Home-Dallas 4155 S R. L. Thornton Fwy  
	Dallas TX 75224
GEO:32.6945504;-96.8242937
END:VEVENT
END:VCALENDAR