BEGIN:VCALENDAR
VERSION:2.0
PRODID:-//Tukios.com/
BEGIN:VEVENT
UID:f7e8387c-1cd0-4e62-b461-9e88cdd23fcb@www.goldengatefuneralhome.com
DTSTAMP:20260424T010409Z
DTSTART:20260501T170000Z
DTEND:20260502T000000Z
SUMMARY:Visitation for HELEN FAYE WHITMIRE
DESCRIPTION:
URL:https://www.goldengatefuneralhome.com/obituaries/helen-whitmire
LOCATION:Golden Gate Funeral Home-Dallas 4155 S R. L. Thornton Fwy  
	Dallas TX 75224
GEO:32.6945504;-96.8242937
END:VEVENT
END:VCALENDAR