BEGIN:VCALENDAR
VERSION:2.0
PRODID:-//Tukios.com/
BEGIN:VEVENT
UID:f9c96ba5-ab94-47d6-befd-fcd4bc0fdd2c@www.goldengatefuneralhome.com
DTSTAMP:20260425T204320Z
DTSTART:20260513T230000Z
DTEND:20260514T000000Z
SUMMARY:Wake for J. B. MALONE JR
DESCRIPTION:
URL:https://www.goldengatefuneralhome.com/obituaries/j-malone
LOCATION:Golden Gate Funeral Home - Ft. Worth 5701 East Loop 820 South  
	Fort Worth TX 76119
GEO:32.6736859;-97.2395395
END:VEVENT
END:VCALENDAR