BEGIN:VCALENDAR
VERSION:2.0
PRODID:-//Tukios.com/
BEGIN:VEVENT
UID:df690779-8d48-466f-9387-3412dabaae9c@www.goldengatefuneralhome.com
DTSTAMP:20260425T204432Z
DTSTART:20260514T170000Z
DTEND:20260514T180000Z
SUMMARY:Funeral for J. B. MALONE JR
DESCRIPTION:
URL:https://www.goldengatefuneralhome.com/obituaries/j-malone
LOCATION:MITCHELL BLVD COC 3209 Mitchell Boulevard  Fort Worth TX 76105
GEO:32.7136906;-97.2884754
END:VEVENT
END:VCALENDAR