BEGIN:VCALENDAR
VERSION:2.0
PRODID:-//Tukios.com/
BEGIN:VEVENT
UID:aeffffbe-f110-40f8-ba76-4369bcfa2b22@www.goldengatefuneralhome.com
DTSTAMP:20260425T204147Z
DTSTART:20260514
SUMMARY:Burial for J. B. MALONE JR
DESCRIPTION:
URL:https://www.goldengatefuneralhome.com/obituaries/j-malone
LOCATION:SKYVUE MEMORIAL GARDENS Highway 1187  Mansfield TX 76063
GEO:32.5795579;-97.1857278
END:VEVENT
END:VCALENDAR