BEGIN:VCALENDAR
VERSION:2.0
PRODID:-//Tukios.com/
BEGIN:VEVENT
UID:463dc27c-6efc-4936-8e03-7d3afd1a1a03@www.goldengatefuneralhome.com
DTSTAMP:20260423T234955Z
DTSTART:20260502T013000Z
DTEND:20260502T023000Z
SUMMARY:Wake for Kendra Johnson
DESCRIPTION:
URL:https://www.goldengatefuneralhome.com/obituaries/kendra-johnson
LOCATION:Golden Gate Funeral Home-Dallas 4155 S R. L. Thornton Fwy  
	Dallas TX 75224
GEO:32.6945504;-96.8242937
END:VEVENT
END:VCALENDAR