BEGIN:VCALENDAR
VERSION:2.0
PRODID:-//Tukios.com/
BEGIN:VEVENT
UID:c7b68791-61d4-49b5-a0fa-333c32dd825e@www.goldengatefuneralhome.com
DTSTAMP:20260423T234828Z
DTSTART:20260502T180000Z
DTEND:20260502T190000Z
SUMMARY:Funeral for Kendra Johnson
DESCRIPTION:
URL:https://www.goldengatefuneralhome.com/obituaries/kendra-johnson
LOCATION:SHILOH MISSIONARY BAPTIST CHURCH 921 West Illinois Avenue  
	Dallas TX 75224
GEO:32.7206407;-96.8385022
END:VEVENT
END:VCALENDAR