BEGIN:VCALENDAR
VERSION:2.0
PRODID:-//Tukios.com/
BEGIN:VEVENT
UID:a7146bed-53fd-4613-a8e6-b3e9be577db4@www.goldengatefuneralhome.com
DTSTAMP:20260423T005208Z
DTSTART:20260425
SUMMARY:Burial for MARVIN LOUIS WOODS
DESCRIPTION:
URL:https://www.goldengatefuneralhome.com/obituaries/marvin-louis-woods
LOCATION:LINCOLN MEMORIAL CEMETERY 1311 Murdock Road  Dallas TX 75217
GEO:32.694306;-96.686402
END:VEVENT
END:VCALENDAR