BEGIN:VCALENDAR
VERSION:2.0
PRODID:-//Tukios.com/
BEGIN:VEVENT
UID:475bd06e-16c1-421d-baba-fea575326e4e@www.goldengatefuneralhome.com
DTSTAMP:20260423T004636Z
DTSTART:20260425T140000Z
DTEND:20260425T150000Z
SUMMARY:Funeral for MARVIN LOUIS WOODS
DESCRIPTION:
URL:https://www.goldengatefuneralhome.com/obituaries/marvin-louis-woods
LOCATION:Golden Gate Funeral Home-Dallas 4155 S R. L. Thornton Fwy  
	Dallas TX 75224
GEO:32.6945504;-96.8242937
END:VEVENT
END:VCALENDAR