BEGIN:VCALENDAR
VERSION:2.0
PRODID:-//Tukios.com/
BEGIN:VEVENT
UID:a63a199c-ea85-4c6c-92f6-6946cf7c584d@www.goldengatefuneralhome.com
DTSTAMP:20260423T004845Z
DTSTART:20260424T170000Z
DTEND:20260425T000000Z
SUMMARY:Visitation for MARVIN LOUIS WOODS
DESCRIPTION:
URL:https://www.goldengatefuneralhome.com/obituaries/marvin-louis-woods
LOCATION:Golden Gate Funeral Home-Dallas 4155 S R. L. Thornton Fwy  
	Dallas TX 75224
GEO:32.6945504;-96.8242937
END:VEVENT
END:VCALENDAR