BEGIN:VCALENDAR
VERSION:2.0
PRODID:-//Tukios.com/
BEGIN:VEVENT
UID:fcf5f272-fb7d-4816-9ede-8a3909a798ba@www.goldengatefuneralhome.com
DTSTAMP:20260421T192201Z
DTSTART:20260423T180000Z
DTEND:20260423T190000Z
SUMMARY:Funeral for PATRICIA ANN BERRY
DESCRIPTION:
URL:https://www.goldengatefuneralhome.com/obituaries/patricia-berry
LOCATION:Golden Gate Funeral Home-Dallas 4155 S R. L. Thornton Fwy  
	Dallas TX 75224
GEO:32.6945504;-96.8242937
END:VEVENT
END:VCALENDAR