BEGIN:VCALENDAR
VERSION:2.0
PRODID:-//Tukios.com/
BEGIN:VEVENT
UID:7105876f-5879-42b7-ab10-19a88ef700ed@www.goldengatefuneralhome.com
DTSTAMP:20260424T213810Z
DTSTART:20260502T200000Z
DTEND:20260502T210000Z
SUMMARY:Funeral for REYFUS MARTEL GAFFNEY
DESCRIPTION:
URL:https://www.goldengatefuneralhome.com/obituaries/reyfus-gaffney
LOCATION:Golden Gate Funeral Home-Dallas-JOHN 4155 S R. L. Thornton Fwy  
	Dallas TX 75224
GEO:32.6945504;-96.8242937
END:VEVENT
END:VCALENDAR