BEGIN:VCALENDAR
VERSION:2.0
PRODID:-//Tukios.com/
BEGIN:VEVENT
UID:454252b1-b0b0-4db7-8d94-573ca2db7451@www.goldengatefuneralhome.com
DTSTAMP:20260423T102151Z
DTSTART:20260429T170000Z
DTEND:20260430T000000Z
SUMMARY:Viewing for ROBERT CURRY
DESCRIPTION:
URL:https://www.goldengatefuneralhome.com/obituaries/robert-curry
LOCATION:Golden Gate Funeral Home-Dallas 4155 S R. L. Thornton Fwy  
	Dallas TX 75224
GEO:32.6945504;-96.8242937
END:VEVENT
END:VCALENDAR