BEGIN:VCALENDAR
VERSION:2.0
PRODID:-//Tukios.com/
BEGIN:VEVENT
UID:8c20d6fa-536c-43f8-97f3-b6d7715577fd@www.goldengatefuneralhome.com
DTSTAMP:20260423T101849Z
DTSTART:20260430T180000Z
DTEND:20260430T190000Z
SUMMARY:Funeral for ROBERT CURRY
DESCRIPTION:
URL:https://www.goldengatefuneralhome.com/obituaries/robert-curry
LOCATION:Golden Gate Funeral Home-Dallas-ALLENE 4155 S R. L. Thornton Fwy 
	 Dallas TX 75224
GEO:32.6945504;-96.8242937
END:VEVENT
END:VCALENDAR