BEGIN:VCALENDAR
VERSION:2.0
PRODID:-//Tukios.com/
BEGIN:VEVENT
UID:d7540176-3410-46c4-a526-efc9de5807d5@www.goldengatefuneralhome.com
DTSTAMP:20260420T084608Z
DTSTART:20260428T190000Z
DTEND:20260429T000000Z
SUMMARY:Viewing for ROMANEEK MCCLAIN
DESCRIPTION:
URL:https://www.goldengatefuneralhome.com/obituaries/romaneek-mcclain
LOCATION:Golden Gate Funeral Home-Dallas 4155 S R. L. Thornton Fwy  
	Dallas TX 75224
GEO:32.6945504;-96.8242937
END:VEVENT
END:VCALENDAR