BEGIN:VCALENDAR
VERSION:2.0
PRODID:-//Tukios.com/
BEGIN:VEVENT
UID:b1b821f2-64a9-498e-bef4-8d425ee249f2@www.goldengatefuneralhome.com
DTSTAMP:20260420T202954Z
DTSTART:20260423T180000Z
DTEND:20260424T000000Z
SUMMARY:Viewing for SAMMIE LOUIS JETER
DESCRIPTION:
URL:https://www.goldengatefuneralhome.com/obituaries/sammie-jeter
LOCATION:Golden Gate Funeral Home-Dallas 4155 S R. L. Thornton Fwy  
	Dallas TX 75224
GEO:32.6945504;-96.8242937
END:VEVENT
END:VCALENDAR