BEGIN:VCALENDAR
VERSION:2.0
PRODID:-//Tukios.com/
BEGIN:VEVENT
UID:13272081-cbdc-431f-979a-80ecf87971a5@www.goldengatefuneralhome.com
DTSTAMP:20260420T203541Z
DTSTART:20260424
SUMMARY:Burial for SAMMIE LOUIS JETER
DESCRIPTION:
URL:https://www.goldengatefuneralhome.com/obituaries/sammie-jeter
LOCATION:Laurel Land Memorial Park 6000 South R L Thornton Freeway  
	Dallas TX 75241
GEO:32.6746625;-96.8205965
END:VEVENT
END:VCALENDAR