BEGIN:VCALENDAR
VERSION:2.0
PRODID:-//Tukios.com/
BEGIN:VEVENT
UID:e56ee181-832a-4d60-b505-e0c6ea786446@www.goldengatefuneralhome.com
DTSTAMP:20260420T202852Z
DTSTART:20260424T160000Z
DTEND:20260424T170000Z
SUMMARY:Funeral for SAMMIE LOUIS JETER
DESCRIPTION:
URL:https://www.goldengatefuneralhome.com/obituaries/sammie-jeter
LOCATION:NEW BIRTH MISSIONARY BAPTIST CHURCH 444 West Ledbetter Drive  
	Dallas TX 75224
GEO:32.6886945;-96.8293183
END:VEVENT
END:VCALENDAR