BEGIN:VCALENDAR
VERSION:2.0
PRODID:-//Tukios.com/
BEGIN:VEVENT
UID:320a075c-c14f-48af-8ae4-23ccae85a901@www.goldengatefuneralhome.com
DTSTAMP:20260425T022645Z
DTSTART:20260428T170000Z
DTEND:20260429T000000Z
SUMMARY:Viewing for SAMUEL THOMPSON
DESCRIPTION:
URL:https://www.goldengatefuneralhome.com/obituaries/samuel-thompson
LOCATION:Golden Gate Funeral Home-Dallas 4155 S R. L. Thornton Fwy  
	Dallas TX 75224
GEO:32.6945504;-96.8242937
END:VEVENT
END:VCALENDAR