BEGIN:VCALENDAR
VERSION:2.0
PRODID:-//Tukios.com/
BEGIN:VEVENT
UID:e8622bad-a56a-4fb5-b436-fcbac1d1033f@www.goldengatefuneralhome.com
DTSTAMP:20260425T022850Z
DTSTART:20260429T180000Z
DTEND:20260429T190000Z
SUMMARY:Burial for SAMUEL THOMPSON
DESCRIPTION:
URL:https://www.goldengatefuneralhome.com/obituaries/samuel-thompson
LOCATION:LINCOLN MEMORIAL CEMETERY 1311 Murdock Road  Dallas TX 75217
GEO:32.694306;-96.686402
END:VEVENT
END:VCALENDAR