BEGIN:VCALENDAR
VERSION:2.0
PRODID:-//Tukios.com/
BEGIN:VEVENT
UID:ef44cfad-d434-4849-8c4d-95db54c44373@www.goldengatefuneralhome.com
DTSTAMP:20260420T232414Z
DTSTART:20260425
SUMMARY:Burial for SANDRA KAY BELL
DESCRIPTION:
URL:https://www.goldengatefuneralhome.com/obituaries/sandra-kay-bell
LOCATION:Shady Oaks Cemetery    Irving TX 
GEO:32.8140177;-96.9488945
END:VEVENT
END:VCALENDAR