BEGIN:VCALENDAR
VERSION:2.0
PRODID:-//Tukios.com/
BEGIN:VEVENT
UID:dbd7a50f-8f42-42c9-932d-bce517ff294a@www.goldengatefuneralhome.com
DTSTAMP:20260420T232240Z
DTSTART:20260425T180000Z
DTEND:20260425T190000Z
SUMMARY:Funeral for SANDRA KAY BELL
DESCRIPTION:
URL:https://www.goldengatefuneralhome.com/obituaries/sandra-kay-bell
LOCATION:West Irving COGIC 4021 Conflans Road  Irving TX 75061
GEO:32.822401;-97.0033772
END:VEVENT
END:VCALENDAR