BEGIN:VCALENDAR
VERSION:2.0
PRODID:-//Tukios.com/
BEGIN:VEVENT
UID:b75a6e6b-26e2-49de-b8ee-594ad2bb808c@www.goldengatefuneralhome.com
DTSTAMP:20260420T232240Z
DTSTART:20260425T000000Z
DTEND:20260425T020000Z
SUMMARY:Wake for SANDRA KAY BELL
DESCRIPTION:
URL:https://www.goldengatefuneralhome.com/obituaries/sandra-kay-bell
LOCATION:New Hope Missionary Baptist Church 3950 Grimes Road  Irving TX 
	75061
GEO:32.8249458;-97.0026377
END:VEVENT
END:VCALENDAR