BEGIN:VCALENDAR
VERSION:2.0
PRODID:-//Tukios.com/
BEGIN:VEVENT
UID:b36e9eac-e5bd-432c-8158-ff1b8f0ab9e1@www.goldengatefuneralhome.com
DTSTAMP:20260424T214043Z
DTSTART:20260502T140000Z
DTEND:20260502T150000Z
SUMMARY:Funeral for TIMMIE LEE EASON
DESCRIPTION:
URL:https://www.goldengatefuneralhome.com/obituaries/timmie-eason
LOCATION:Golden Gate Funeral Home- JOHN CHAPEL 4155 S R. L. Thornton Fwy  
	Dallas TX 75224
GEO:32.6945504;-96.8242937
END:VEVENT
END:VCALENDAR