BEGIN:VCALENDAR
VERSION:2.0
PRODID:-//Tukios.com/
BEGIN:VEVENT
UID:e461ee3d-8d8d-4c2d-9d60-cc55027f829d@www.goldengatefuneralhome.com
DTSTAMP:20260421T192034Z
DTSTART:20260422T183000Z
DTEND:20260422T193000Z
SUMMARY:Funeral for VICKI RAE DAVIS
DESCRIPTION:
URL:https://www.goldengatefuneralhome.com/obituaries/vicki-davis
LOCATION:HOLY SPIRIT CATHOLIC CHURCH 1111 West Danieldale Road  
	Duncanville TX 75137
GEO:32.6335681;-96.9366805
END:VEVENT
END:VCALENDAR